BEGIN:VCALENDAR
VERSION:2.0
PRODID:-//ChamberMaster//Event Calendar 2.0//EN
METHOD:PUBLISH
X-PUBLISHED-TTL:P3D
REFRESH-INTERVAL:P3D
CALSCALE:GREGORIAN
BEGIN:VEVENT
DTSTART:20110119T000000Z
DTEND:20110119T010000Z
X-MICROSOFT-CDO-ALLDAYEVENT:FALSE
SUMMARY:STROKE SUPPORT GROUP TO MEET IN HARLINGEN
DESCRIPTION:STROKE  SUPPORT  GROUP TO  MEET  IN  HARLINGEN\n Free Meeting to be held Tuesday\, Jan. 18\nat Valley Baptist Medical Center\n HARLINGEN - A free Stroke Support Group meeting will be held Tuesday\, January 18\, from 6 p.m. to 7 p.m. at Valley Baptist Medical Center-Harlingen.  Chaplain Joe Jaime of Valley Baptist will speak and answer questions on the spiritual aspects of coping with stroke. \n\nThe meeting\, which is open to the public\, will be held in the East Tower\, on the third floor of the hospital\, in Classroom "B".   The H.O.P.E. (Haven Offering Patient Encouragement) Stroke Support Group provides education\, resources and support to stroke patients\, family members and care givers.  Meetings will be held on the third Tuesday of each month. For more information\, contact Julio C. Olmeda\, MSN\, APRN\, FNP-BC\, Nurse Practitioner\, at (956) 389-4060\, or visit www.ValleyBaptist.net.
X-ALT-DESC;FMTTYPE=text/html:STROKE  SUPPORT  GROUP TO  MEET  IN  HARLINGEN\n Free Meeting to be held Tuesday\, Jan. 18\nat Valley Baptist Medical Center\n HARLINGEN - A free Stroke Support Group meeting will be held Tuesday\, January 18\, from 6 p.m. to 7 p.m. at Valley Baptist Medical Center-Harlingen.  Chaplain Joe Jaime of Valley Baptist will speak and answer questions on the spiritual aspects of coping with stroke. \n\nThe meeting\, which is open to the public\, will be held in the East Tower\, on the third floor of the hospital\, in Classroom "B".   The H.O.P.E. (Haven Offering Patient Encouragement) Stroke Support Group provides education\, resources and support to stroke patients\, family members and care givers.  Meetings will be held on the third Tuesday of each month. For more information\, contact Julio C. Olmeda\, MSN\, APRN\, FNP-BC\, Nurse Practitioner\, at (956) 389-4060\, or visit www.ValleyBaptist.net.\n
LOCATION:VBMC\, East Tower\, 3rd Floor\, Classroom "B".
UID:e.1828.2894
SEQUENCE:3
DTSTAMP:20260421T154559Z
URL:https://business.harlingen.com/events/details/stroke-support-group-to-meet-in-harlingen-01-18-2011-2894
END:VEVENT

END:VCALENDAR
