BEGIN:VCALENDAR
VERSION:2.0
PRODID:-//ChamberMaster//Event Calendar 2.0//EN
METHOD:PUBLISH
X-PUBLISHED-TTL:P3D
REFRESH-INTERVAL:P3D
CALSCALE:GREGORIAN
BEGIN:VEVENT
DTSTART:20120811T150000Z
DTEND:20120811T190000Z
X-MICROSOFT-CDO-ALLDAYEVENT:FALSE
SUMMARY:Style on Canvas Art Show
DESCRIPTION:Style on Canvas Art Show Sponsored by RGV Art Online & Golden Palms Retirement & Healthcare Center\nCome by and meet our RGV Art Online artists and shop for that special piece of art!  For more information\, please call Norma Castillo at (956) 793-1393.
X-ALT-DESC;FMTTYPE=text/html:Style on Canvas Art Show Sponsored by RGV Art Online & Golden Palms Retirement & Healthcare Center\nCome by and meet our RGV Art Online artists and shop for that special piece of art!  For more information\, please call Norma Castillo at (956) 793-1393.  
LOCATION:
UID:e.1828.3923
SEQUENCE:3
DTSTAMP:20260420T114404Z
URL:https://business.harlingen.com/events/details/style-on-canvas-art-show-08-11-2012-3923
END:VEVENT

END:VCALENDAR
