BEGIN:VCALENDAR
VERSION:2.0
PRODID:-//ChamberMaster//Event Calendar 2.0//EN
METHOD:PUBLISH
X-PUBLISHED-TTL:P3D
REFRESH-INTERVAL:P3D
CALSCALE:GREGORIAN
BEGIN:VEVENT
DTSTART:20100328T140000Z
DTEND:20100328T220000Z
X-MICROSOFT-CDO-ALLDAYEVENT:FALSE
SUMMARY:Sugar Arts Day of Sharing
DESCRIPTION:The Sugar Belles of South Texas are hosting a full day of cake decorating and sugar-art instructional demonstrations. There will be raffles\, door prizes and vendors\, as well as special guest demonstrators (From TLC's Ultimate Cake Off)! $45 early bird registion if you register before March 18th. (includes lunch)
X-ALT-DESC;FMTTYPE=text/html:The Sugar Belles of South Texas are hosting a full day of cake decorating and sugar-art instructional demonstrations. There will be raffles\, door prizes and vendors\, as well as special guest demonstrators (From TLC's Ultimate Cake Off)! $45 early bird registion if you register before March 18th. (includes lunch)
LOCATION:Event will be held at the Harlingen Cultural Arts Center\, next to the Harlingen Public Library.
UID:e.1828.2381
SEQUENCE:3
DTSTAMP:20260422T080832Z
URL:https://business.harlingen.com/events/details/sugar-arts-day-of-sharing-03-28-2010-2381
END:VEVENT

END:VCALENDAR
