BEGIN:VCALENDAR
VERSION:2.0
PRODID:-//ChamberMaster//Event Calendar 2.0//EN
METHOD:PUBLISH
X-PUBLISHED-TTL:P3D
REFRESH-INTERVAL:P3D
CALSCALE:GREGORIAN
BEGIN:VEVENT
DTSTART;VALUE=DATE:20120630
DTEND;VALUE=DATE:20120707
TRANSP:TRANSPARENT
X-MICROSOFT-CDO-ALLDAYEVENT:TRUE
SUMMARY:Summer Music Camp
DESCRIPTION:Summer Music Camp    \nCamp 2:  June 25 - July 6\nCamp 3:  July 9 - July 20 \nMorning Camp:  10:00 a.m. - 1:00 p.m.  \nAfternoon Camp:  1:00 p.m. - 4:00 p.m. \n\nAdmission:  $148 per camp (10% discount for BMFA Members) \nAges:  5 to 18\nFor more information\, call (956) 542-0941 or e-mail:  vanessa@brownsvillemfa.org or\ngo to www.brownsvillemfa.org.
X-ALT-DESC;FMTTYPE=text/html:Summer Music Camp    \nCamp 2:  June 25 - July 6\nCamp 3:  July 9 - July 20 \nMorning Camp:  10:00 a.m. - 1:00 p.m.  \nAfternoon Camp:  1:00 p.m. - 4:00 p.m. \n\nAdmission:  $148 per camp (10% discount for BMFA Members) \nAges:  5 to 18\nFor more information\, call (956) 542-0941 or e-mail:  vanessa@brownsvillemfa.org or\ngo to www.brownsvillemfa.org.\n
LOCATION:
UID:e.1828.3821
SEQUENCE:3
DTSTAMP:20260420T114220Z
URL:https://business.harlingen.com/events/details/summer-music-camp-06-30-2012-3821
END:VEVENT

END:VCALENDAR
