BEGIN:VCALENDAR
VERSION:2.0
PRODID:-//ChamberMaster//Event Calendar 2.0//EN
METHOD:PUBLISH
X-PUBLISHED-TTL:P3D
REFRESH-INTERVAL:P3D
CALSCALE:GREGORIAN
BEGIN:VEVENT
DTSTART:20110609T170000Z
DTEND:20110609T230000Z
X-MICROSOFT-CDO-ALLDAYEVENT:FALSE
SUMMARY:Summer Showcase In Harlingen Your Business Is A Star!
DESCRIPTION:Come and join the Harlingen Chamber of Commerce yearly event. \nHollywood Style Business Expo exhibitors will showcase their products and services. Open to the public. For information call Harlingen Chamber of Commerce at 956-423-5440.
X-ALT-DESC;FMTTYPE=text/html:Come and join the Harlingen Chamber of Commerce yearly event. \nHollywood Style Business Expo exhibitors will showcase their products and services. Open to the public. For information call Harlingen Chamber of Commerce at 956-423-5440. \n
LOCATION:
UID:e.1828.3058
SEQUENCE:3
DTSTAMP:20260421T084815Z
URL:https://business.harlingen.com/events/details/summer-showcase-in-harlingen-your-business-is-a-star-06-09-2011-3058
END:VEVENT

END:VCALENDAR
