BEGIN:VCALENDAR
VERSION:2.0
PRODID:-//ChamberMaster//Event Calendar 2.0//EN
METHOD:PUBLISH
X-PUBLISHED-TTL:P3D
REFRESH-INTERVAL:P3D
CALSCALE:GREGORIAN
BEGIN:VEVENT
DTSTART:20111117T160000Z
DTEND:20111117T160000Z
X-MICROSOFT-CDO-ALLDAYEVENT:FALSE
SUMMARY:Sun Loan Co. & Tax Service Grand Opening
DESCRIPTION:Come celebrate the grand opening of Sun Loan Co. & Tax Service's 2nd location in Harlingen. There will be a grand prize give-away along with cake and punch served.
X-ALT-DESC;FMTTYPE=text/html:Come celebrate the grand opening of Sun Loan Co. & Tax Service's 2nd location in Harlingen. There will be a grand prize give-away along with cake and punch served.\n
LOCATION:
UID:e.1828.3229
SEQUENCE:3
DTSTAMP:20260421T005148Z
URL:https://business.harlingen.com/events/details/sun-loan-co-tax-service-grand-opening-11-17-2011-3229
END:VEVENT

END:VCALENDAR
