BEGIN:VCALENDAR
VERSION:2.0
PRODID:-//ChamberMaster//Event Calendar 2.0//EN
METHOD:PUBLISH
X-PUBLISHED-TTL:P3D
REFRESH-INTERVAL:P3D
CALSCALE:GREGORIAN
BEGIN:VEVENT
DTSTART:20090920T160000Z
DTEND:20090920T190000Z
X-MICROSOFT-CDO-ALLDAYEVENT:FALSE
SUMMARY:Sunday Brunch Buffet at A Catered Affair
DESCRIPTION:Treat family\, friends & yourself to a very special Sunday Brunch Buffet at A Catered Affair. Enjoy a wide variety of dishes from the OMELET/BREAKFAST BAR\, SALADS AND COLD DISPLAYS\, ENTREES & ACCOMPANIMENTS\, DESSERTS & BEVERAGES. Mimosas available.  Prices $18.95 for adults\, $9.50 ages 6-12 and complimentary for ages 5 & under. Early Reservations Strongly Recommended!  Please call (956) 412-3663 today!
X-ALT-DESC;FMTTYPE=text/html:Treat family\, friends & yourself to a very special Sunday Brunch Buffet at A Catered Affair. Enjoy a wide variety of dishes from the OMELET/BREAKFAST BAR\, SALADS AND COLD DISPLAYS\, ENTREES & ACCOMPANIMENTS\, DESSERTS & BEVERAGES. Mimosas available.  Prices $18.95 for adults\, $9.50 ages 6-12 and complimentary for ages 5 & under. Early Reservations Strongly Recommended!  Please call (956) 412-3663 today!  
LOCATION:
UID:e.1828.2064
SEQUENCE:3
DTSTAMP:20260422T094707Z
URL:https://business.harlingen.com/events/details/sunday-brunch-buffet-at-a-catered-affair-09-20-2009-2064
END:VEVENT

END:VCALENDAR
