BEGIN:VCALENDAR
VERSION:2.0
PRODID:-//ChamberMaster//Event Calendar 2.0//EN
METHOD:PUBLISH
X-PUBLISHED-TTL:P3D
REFRESH-INTERVAL:P3D
CALSCALE:GREGORIAN
BEGIN:VEVENT
DTSTART:20111112T170000Z
DTEND:20111112T200000Z
X-MICROSOFT-CDO-ALLDAYEVENT:FALSE
SUMMARY:Sunny Glen Children's Home San Benito\,Texas Celebrating the 75th Anniversary
DESCRIPTION:Sunny Glen Children's Home San Benito\,Texas Celebrating the 75th Anniversary of ''helping hurting children become happy children''\n\nFood\, fun & festivities for all\nPlease R.S.V.P to 956/399-5356 by October 15th
X-ALT-DESC;FMTTYPE=text/html:Sunny Glen Children's Home San Benito\,Texas Celebrating the 75th Anniversary of ''helping hurting children become happy children''\n\nFood\, fun & festivities for all\nPlease R.S.V.P to 956/399-5356 by October 15th\n\n
LOCATION:
UID:e.1828.3144
SEQUENCE:3
DTSTAMP:20260421T004544Z
URL:https://business.harlingen.com/events/details/sunny-glen-children-s-home-san-benito-texas-celebrating-the-75th-anniversary-11-12-2011-3144
END:VEVENT

END:VCALENDAR
