BEGIN:VCALENDAR
VERSION:2.0
PRODID:-//ChamberMaster//Event Calendar 2.0//EN
METHOD:PUBLISH
X-PUBLISHED-TTL:P3D
REFRESH-INTERVAL:P3D
CALSCALE:GREGORIAN
BEGIN:VEVENT
DTSTART;VALUE=DATE:20130203
DTEND;VALUE=DATE:20130204
TRANSP:TRANSPARENT
X-MICROSOFT-CDO-ALLDAYEVENT:TRUE
SUMMARY:SUPERBOWL BLOW OUT PARTY
DESCRIPTION:Televised Superbowl Party!  Food buffet and free draft beer while it lasts.  Photo booth on site!   \n\nTickets:  $35.00 each (Adult - 21 years and older)\n\nFor more information call (956) 412-3663
X-ALT-DESC;FMTTYPE=text/html:Televised Superbowl Party!  Food buffet and free draft beer while it lasts.  Photo booth on site!   \n\nTickets:  $35.00 each (Adult - 21 years and older)\n\nFor more information call (956) 412-3663\n\n
LOCATION:
UID:e.1828.4214
SEQUENCE:3
DTSTAMP:20260420T085705Z
URL:https://business.harlingen.com/events/details/superbowl-blow-out-party-02-03-2013-4214
END:VEVENT

END:VCALENDAR
