BEGIN:VCALENDAR
VERSION:2.0
PRODID:-//ChamberMaster//Event Calendar 2.0//EN
METHOD:PUBLISH
X-PUBLISHED-TTL:P3D
REFRESH-INTERVAL:P3D
CALSCALE:GREGORIAN
BEGIN:VEVENT
DTSTART:20110208T003000Z
DTEND:20110208T033000Z
X-MICROSOFT-CDO-ALLDAYEVENT:FALSE
SUMMARY:Tapestry Dance Company production of Ears Wide Open
DESCRIPTION:Join Artistic Director Acia Gray and the dances of Tapestry Dance Company for "Ears Wide Open"\, on Monday\, Feb. 7\, 2011 in the ballroom of the Isla Grand Resort.  Tapestry is bringing their jazz club to the Laguna Madre area in an evening of tap dance celebrating the interplay between two of America's indigenous art forms---jazz and tap.  Come enjoy the subtleties and joys of jazz that can only be experienced with "Ears Wide Open".  Tapestry Dance Company is a professional non-profit dance organization founded in 1989 and is the only professional\, full-time tap dance company in North America.  Tickets for "Ears Wide Open" are $30/person\, $25 for El Paseo Arts Foundation members.  Group rates (10 or more) are available at member pricing.  Call for details.
X-ALT-DESC;FMTTYPE=text/html:Join Artistic Director Acia Gray and the dances of Tapestry Dance Company for "Ears Wide Open"\, on Monday\, Feb. 7\, 2011 in the ballroom of the Isla Grand Resort.  Tapestry is bringing their jazz club to the Laguna Madre area in an evening of tap dance celebrating the interplay between two of America's indigenous art forms---jazz and tap.  Come enjoy the subtleties and joys of jazz that can only be experienced with "Ears Wide Open".  Tapestry Dance Company is a professional non-profit dance organization founded in 1989 and is the only professional\, full-time tap dance company in North America.  Tickets for "Ears Wide Open" are $30/person\, $25 for El Paseo Arts Foundation members.  Group rates (10 or more) are available at member pricing.  Call for details.
LOCATION:Isla Grand Resort Ballroom\, South Padre Island\, TX 6:30 PM Hors d'oeuvres\, 7:30 PM performance Visit www.elpaseoarts.org for more information
UID:e.1828.3242
SEQUENCE:3
DTSTAMP:20260421T154942Z
URL:https://business.harlingen.com/events/details/tapestry-dance-company-production-of-ears-wide-open-02-07-2011-3242
END:VEVENT

END:VCALENDAR
