BEGIN:VCALENDAR
VERSION:2.0
PRODID:-//ChamberMaster//Event Calendar 2.0//EN
METHOD:PUBLISH
X-PUBLISHED-TTL:P3D
REFRESH-INTERVAL:P3D
CALSCALE:GREGORIAN
BEGIN:VEVENT
DTSTART:20101106T000000Z
DTEND:20101106T000000Z
X-MICROSOFT-CDO-ALLDAYEVENT:FALSE
SUMMARY:Taste of the Town
DESCRIPTION:The Taste of the Town is an annual fundraiser organized by the Saint Joseph Academy Athletic Boosters Club.\nThis annual event is in support of Bloodhound athletes who diligently strive for excellence throughout the year on playing fields and in classrooms to make us all proud.  Over 15 area restaurants are invited to showcase their culinary creativity\, a top-notch selection of wine\, and entertainment.\n\nFor only $40. per person you will enjoy fine cuisine\, wine and entertainment while simultaneously feeding your soul through your philanthropy!  For additional information\, please contact the SJA Office of Advancement at (956) 542-3581.
X-ALT-DESC;FMTTYPE=text/html:The Taste of the Town is an annual fundraiser organized by the Saint Joseph Academy Athletic Boosters Club.\nThis annual event is in support of Bloodhound athletes who diligently strive for excellence throughout the year on playing fields and in classrooms to make us all proud.  Over 15 area restaurants are invited to showcase their culinary creativity\, a top-notch selection of wine\, and entertainment.\n\nFor only $40. per person you will enjoy fine cuisine\, wine and entertainment while simultaneously feeding your soul through your philanthropy!  For additional information\, please contact the SJA Office of Advancement at (956) 542-3581.
LOCATION:Saint Joseph Academy Courtyard
UID:e.1828.2832
SEQUENCE:3
DTSTAMP:20260421T190136Z
URL:https://business.harlingen.com/events/details/taste-of-the-town-11-05-2010-2832
END:VEVENT

END:VCALENDAR
