BEGIN:VCALENDAR
VERSION:2.0
PRODID:-//ChamberMaster//Event Calendar 2.0//EN
METHOD:PUBLISH
X-PUBLISHED-TTL:P3D
REFRESH-INTERVAL:P3D
CALSCALE:GREGORIAN
BEGIN:VEVENT
DTSTART:20091107T010000Z
DTEND:20091107T050000Z
X-MICROSOFT-CDO-ALLDAYEVENT:FALSE
SUMMARY:Taste of the Town
DESCRIPTION:Join us on the evening of November 6th\, at 7:00 PM in the SJA Courtyard to\nenjoy the culinary creativity of over 15 local restaurants\, a top-notch\nselection of wine\, and the toe-tapping tunes of two live bands.\nIn today's economy\, we all want to see our hard earned dollar stretch\, and\nat Taste of the Town\, that's exactly what you'll get. For only $35 per\nperson you will enjoy a fine cuisine and wine while simultaneously feeding\nyour soul through your philanthropy!\n\nTaste of the Town is a Saint Joseph Academy fundraiser organized by the SJA\nAthletic Boosters. This event is in support of Bloodhound athletes who\ndiligently strive for excellence throughout the year on playing fields and\nin classrooms to make us all proud\; we ask that you match their commitment.\n\nMusic by:\n\nGranger Smith and Bree Stevens\n\nFor more information\, visit www.sja.us or call 956-542-3581 ext. 330\n\nSAVE THE DATE:\nFriday\, November 6th\, 2009
X-ALT-DESC;FMTTYPE=text/html:Join us on the evening of November 6th\, at 7:00 PM in the SJA Courtyard to\nenjoy the culinary creativity of over 15 local restaurants\, a top-notch\nselection of wine\, and the toe-tapping tunes of two live bands.\nIn today's economy\, we all want to see our hard earned dollar stretch\, and\nat Taste of the Town\, that's exactly what you'll get. For only $35 per\nperson you will enjoy a fine cuisine and wine while simultaneously feeding\nyour soul through your philanthropy!\n\nTaste of the Town is a Saint Joseph Academy fundraiser organized by the SJA\nAthletic Boosters. This event is in support of Bloodhound athletes who\ndiligently strive for excellence throughout the year on playing fields and\nin classrooms to make us all proud\; we ask that you match their commitment.\n\nMusic by:\n\nGranger Smith and Bree Stevens\n\nFor more information\, visit www.sja.us or call 956-542-3581 ext. 330\n\nSAVE THE DATE:\nFriday\, November 6th\, 2009
LOCATION:101 Saint Joseph Dr. Brownsville\, Texas 78521
UID:e.1828.2140
SEQUENCE:3
DTSTAMP:20260422T144116Z
URL:https://business.harlingen.com/events/details/taste-of-the-town-11-06-2009-2140
END:VEVENT

END:VCALENDAR
