BEGIN:VCALENDAR
VERSION:2.0
PRODID:-//ChamberMaster//Event Calendar 2.0//EN
METHOD:PUBLISH
X-PUBLISHED-TTL:P3D
REFRESH-INTERVAL:P3D
CALSCALE:GREGORIAN
BEGIN:VEVENT
DTSTART:20101202T233000Z
DTEND:20101202T233000Z
X-MICROSOFT-CDO-ALLDAYEVENT:FALSE
SUMMARY:Taubert Farm and Ranch Open House and Ribbon Cutting
DESCRIPTION:You are invited to attend Taubert Farm and Ranch's Christmas open house and ribbon cutting ceremony. Come view the store and see how they have expanded their brand of services and sneak a peak of the new development "a little bit more". Appetizers and adult beverages will be served. \n\nA message from our new member:\nTaubert Farm & Ranch opened for business on February 1\, 2010 (after purchasing Wade Feed Store.) Since then\, we have been shaping our brand of service in the feed and livestock supply business. We support our farmers\, ranchers\, and rural lifestylers by supplying livestock & pet food and supplies. We are also developing a "little bit more" so you can expect the unexpected when you come into our store!
X-ALT-DESC;FMTTYPE=text/html:You are invited to attend Taubert Farm and Ranch's Christmas open house and ribbon cutting ceremony. Come view the store and see how they have expanded their brand of services and sneak a peak of the new development "a little bit more". Appetizers and adult beverages will be served. \n\nA message from our new member:\nTaubert Farm & Ranch opened for business on February 1\, 2010 (after purchasing Wade Feed Store.) Since then\, we have been shaping our brand of service in the feed and livestock supply business. We support our farmers\, ranchers\, and rural lifestylers by supplying livestock & pet food and supplies. We are also developing a "little bit more" so you can expect the unexpected when you come into our store!\n
LOCATION:
UID:e.1828.2860
SEQUENCE:3
DTSTAMP:20260421T171956Z
URL:https://business.harlingen.com/events/details/taubert-farm-and-ranch-open-house-and-ribbon-cutting-12-02-2010-2860
END:VEVENT

END:VCALENDAR
