BEGIN:VCALENDAR
VERSION:2.0
PRODID:-//ChamberMaster//Event Calendar 2.0//EN
METHOD:PUBLISH
X-PUBLISHED-TTL:P3D
REFRESH-INTERVAL:P3D
CALSCALE:GREGORIAN
BEGIN:VEVENT
DTSTART:20120216T160000Z
DTEND:20120217T060000Z
X-MICROSOFT-CDO-ALLDAYEVENT:FALSE
SUMMARY:Tax Issues for Small Businesses and Self-Employed
DESCRIPTION:It will be presented by Maria Zamarripa & Charles Jones from H& R block\n\nThis workshop will teach you about\n- Keeping small business records organized for tax season\n- What items can be deductible\n-Self employment issues\n-Tax Retirement\n-Form 1040Tax
X-ALT-DESC;FMTTYPE=text/html:It will be presented by Maria Zamarripa & Charles Jones from H& R block\n\nThis workshop will teach you about\n- Keeping small business records organized for tax season\n- What items can be deductible\n-Self employment issues\n-Tax Retirement\n-Form 1040Tax
LOCATION:Small Business Administration Office ( in the Bank of America Bldg.)
UID:e.1828.3431
SEQUENCE:3
DTSTAMP:20260420T200247Z
URL:https://business.harlingen.com/events/details/tax-issues-for-small-businesses-and-self-employed-02-16-2012-3431
END:VEVENT

END:VCALENDAR
