BEGIN:VCALENDAR
VERSION:2.0
PRODID:-//ChamberMaster//Event Calendar 2.0//EN
METHOD:PUBLISH
X-PUBLISHED-TTL:P3D
REFRESH-INTERVAL:P3D
CALSCALE:GREGORIAN
BEGIN:VEVENT
DTSTART:20110323T160000Z
DTEND:20110323T180000Z
X-MICROSOFT-CDO-ALLDAYEVENT:FALSE
SUMMARY:TAX TIPS FOR SMALL BUSINESSES
DESCRIPTION:Join H&R BLOCK as they cover tax information tailored for small businesses! \nThis free seminar highlights topics including: Personal vs. Business Expenses \nHow do you distinguish between them? Depreciation How does one categorize? What is its purpose?\nCapital vs. Deductible Expenses What is allowed? Is it necessary for my business?\n \nRegister today! Call the chamber at (956) 423-5440.
X-ALT-DESC;FMTTYPE=text/html: Join H&R BLOCK as they cover tax information tailored for small businesses! \nThis free seminar highlights topics including: Personal vs. Business Expenses \nHow do you distinguish between them? Depreciation How does one categorize? What is its purpose?\nCapital vs. Deductible Expenses What is allowed? Is it necessary for my business?\n \nRegister today! Call the chamber at (956) 423-5440.    \n
LOCATION:
UID:e.1828.2995
SEQUENCE:3
DTSTAMP:20260421T124435Z
URL:https://business.harlingen.com/events/details/tax-tips-for-small-businesses-03-23-2011-2995
END:VEVENT

END:VCALENDAR
