BEGIN:VCALENDAR
VERSION:2.0
PRODID:-//ChamberMaster//Event Calendar 2.0//EN
METHOD:PUBLISH
X-PUBLISHED-TTL:P3D
REFRESH-INTERVAL:P3D
CALSCALE:GREGORIAN
BEGIN:VEVENT
DTSTART:20100211T180000Z
DTEND:20100211T180000Z
X-MICROSOFT-CDO-ALLDAYEVENT:FALSE
SUMMARY:Tech Prep of the Rio Grande Valley Employers' and Educator Forum
DESCRIPTION:Tech Prep of the Rio Grande Valley\, Inc. will be having an Employers' and Educator Forum on February 11\, 2010.\nThe Forum will provide an opportunity for dialogue and raise funds to increase opportunities for job shadowing\, Educator Externships\, and Tech Prep Texas Scholars and related scholarships. Featured speaker is Tony Hill with the Dallas Cowboys. and member of the Cowboys ''Top 50'' and community leader.  To become an official sponsor or purchase individual tickets\, contact Tech Prep at 956.364.4509 or 800.852.8784\, ext. 4509.
X-ALT-DESC;FMTTYPE=text/html:Tech Prep of the Rio Grande Valley\, Inc. will be having an Employers' and Educator Forum on February 11\, 2010.\nThe Forum will provide an opportunity for dialogue and raise funds to increase opportunities for job shadowing\, Educator Externships\, and Tech Prep Texas Scholars and related scholarships. Featured speaker is Tony Hill with the Dallas Cowboys. and member of the Cowboys ''Top 50'' and community leader.  To become an official sponsor or purchase individual tickets\, contact Tech Prep at 956.364.4509 or 800.852.8784\, ext. 4509.\n   
LOCATION:
UID:e.1828.2359
SEQUENCE:3
DTSTAMP:20260422T100228Z
URL:https://business.harlingen.com/events/details/tech-prep-of-the-rio-grande-valley-employers-and-educator-forum-02-11-2010-2359
END:VEVENT

END:VCALENDAR
