BEGIN:VCALENDAR
VERSION:2.0
PRODID:-//ChamberMaster//Event Calendar 2.0//EN
METHOD:PUBLISH
X-PUBLISHED-TTL:P3D
REFRESH-INTERVAL:P3D
CALSCALE:GREGORIAN
BEGIN:VEVENT
DTSTART:20110323T230000Z
DTEND:20110323T230000Z
X-MICROSOFT-CDO-ALLDAYEVENT:FALSE
SUMMARY:Tech Prep's Bright Futures Gala
DESCRIPTION:Enjoy dinner with friends and hear Dallas Cowboys star Tony "the Thrill" Hill!  Learn about Tech Prep student accomplishments at Tech Prep's Bright Futures Gala. For more information vicky.millhimes@tstc.edu or call Tech Prep at (956) 364-4509 for sponsorships and tickets
X-ALT-DESC;FMTTYPE=text/html:Enjoy dinner with friends and hear Dallas Cowboys star Tony "the Thrill" Hill!  Learn about Tech Prep student accomplishments at Tech Prep's Bright Futures Gala. For more information vicky.millhimes@tstc.edu or call Tech Prep at (956) 364-4509 for sponsorships and tickets     \n   \n
LOCATION:
UID:e.1828.2983
SEQUENCE:3
DTSTAMP:20260421T124406Z
URL:https://business.harlingen.com/events/details/tech-prep-s-bright-futures-gala-03-23-2011-2983
END:VEVENT

END:VCALENDAR
