BEGIN:VCALENDAR
VERSION:2.0
PRODID:-//ChamberMaster//Event Calendar 2.0//EN
METHOD:PUBLISH
X-PUBLISHED-TTL:P3D
REFRESH-INTERVAL:P3D
CALSCALE:GREGORIAN
BEGIN:VEVENT
DTSTART:20100305T140000Z
DTEND:20100305T140000Z
X-MICROSOFT-CDO-ALLDAYEVENT:FALSE
SUMMARY:Technology Entrepreneurship Boot Camp
DESCRIPTION:UTPA's 2nd annual conference on tech-based entrepreneurship in the Rio South Texas Region will bring together the entrepreneurial community to discuss opportunities and regional competitive advantages for commercializing technological innovation.  Registration fee $25.  Reduced fee available for students.  Includes presentations\, continental breakfast\, lunch and afternoon mixer.  To register\, or for more information\, contact Allan Beck at 956-318-8947.   You may also register online at www.showclix.com/event/8488/
X-ALT-DESC;FMTTYPE=text/html:UTPA's 2nd annual conference on tech-based entrepreneurship in the Rio South Texas Region will bring together the entrepreneurial community to discuss opportunities and regional competitive advantages for commercializing technological innovation.  Registration fee $25.  Reduced fee available for students.  Includes presentations\, continental breakfast\, lunch and afternoon mixer.  To register\, or for more information\, contact Allan Beck at 956-318-8947.   You may also register online at www.showclix.com/event/8488/\n
LOCATION:
UID:e.1828.2412
SEQUENCE:3
DTSTAMP:20260422T093422Z
URL:https://business.harlingen.com/events/details/technology-entrepreneurship-boot-camp-03-05-2010-2412
END:VEVENT

END:VCALENDAR
