BEGIN:VCALENDAR
VERSION:2.0
PRODID:-//ChamberMaster//Event Calendar 2.0//EN
METHOD:PUBLISH
X-PUBLISHED-TTL:P3D
REFRESH-INTERVAL:P3D
CALSCALE:GREGORIAN
BEGIN:VEVENT
DTSTART:20090806T180000Z
DTEND:20090806T200000Z
X-MICROSOFT-CDO-ALLDAYEVENT:FALSE
SUMMARY:Test to see if this works
DESCRIPTION:test on description
X-ALT-DESC;FMTTYPE=text/html:test on description
LOCATION:test on directions
UID:e.1828.2015
SEQUENCE:3
DTSTAMP:20260422T080703Z
URL:https://business.harlingen.com/events/details/test-to-see-if-this-works-08-06-2009-2015
END:VEVENT

END:VCALENDAR
