BEGIN:VCALENDAR
VERSION:2.0
PRODID:-//ChamberMaster//Event Calendar 2.0//EN
METHOD:PUBLISH
X-PUBLISHED-TTL:P3D
REFRESH-INTERVAL:P3D
CALSCALE:GREGORIAN
BEGIN:VEVENT
DTSTART:20100424T130000Z
DTEND:20100424T130000Z
X-MICROSOFT-CDO-ALLDAYEVENT:FALSE
SUMMARY:Texas AgrLIFE Extension Service Earth-Kind Seminar
DESCRIPTION:Landscaping & Gardening seminar.  Registration at 8 am.  Program begins at 9 am.  $65 per person includes lunch & Earth-Kind notebook.  Program topics cover a wide variety of Earth-Kind gardening techniques presented by certified Earth-Kind horticulturists.  SPACE IS LIMITED!  Must register by Monday\, April 12th.  To register please contact Rosalinda at 956-498-7840 or Carole at 956-455-2096.
X-ALT-DESC;FMTTYPE=text/html:Landscaping & Gardening seminar.  Registration at 8 am.  Program begins at 9 am.  $65 per person includes lunch & Earth-Kind notebook.  Program topics cover a wide variety of Earth-Kind gardening techniques presented by certified Earth-Kind horticulturists.  SPACE IS LIMITED!  Must register by Monday\, April 12th.  To register please contact Rosalinda at 956-498-7840 or Carole at 956-455-2096.
LOCATION:
UID:e.1828.2454
SEQUENCE:3
DTSTAMP:20260422T080937Z
URL:https://business.harlingen.com/events/details/texas-agrlife-extension-service-earth-kind-seminar-04-24-2010-2454
END:VEVENT

END:VCALENDAR
