BEGIN:VCALENDAR
VERSION:2.0
PRODID:-//ChamberMaster//Event Calendar 2.0//EN
METHOD:PUBLISH
X-PUBLISHED-TTL:P3D
REFRESH-INTERVAL:P3D
CALSCALE:GREGORIAN
BEGIN:VEVENT
DTSTART:20091024T160000Z
DTEND:20091024T200000Z
X-MICROSOFT-CDO-ALLDAYEVENT:FALSE
SUMMARY:Texas Butterfly Day Family Fun Day
DESCRIPTION:FOR IMMEDIATE RELEASE	\n\n 		Bentsen Rio Grande Valley State Park World Birding Center  	\n 	            2800 S. Bentsen Palm Dr. Mission TX\, 78572\n     	           (956) 584-9156 \n\nFamily Fun Day at the Park\nSaturday\, October 24th 11:00 AM – 3:00 PM\n\n\nBentsen Rio Grande Valley State Park\nInvites YOU to \n~A Special Fun Day for the Whole Family ~\n\n\nOctober is a beautiful time of the year especially for Butterflies!\nThis is the time to get outdoors and observe this majestically creatures.\nGet your gear ready and head on to Bentsen state Park!  \n\nPlease join us for a fun and informative program about Butterflies in the Valley! \nEnjoy all the activities for the kids as well as for the adults events include\;\nFamily Hawk Watch 9am – 12pm\nFamily activities: flying kites with Windchasers kite team\, crafts\, games\, tram tours\, butterfly walks\, touch table and much more.\nAfter a long day of family diversion or just enjoying of a beautiful day\, please come in and sit in the park's Café with great view to the gardens and enjoy wildlife watching from the comfort of our air conditioned facility\, while savoring of a smoothie\, sandwich\, cookie\, ice cream and other delicious treats for sale.   \n \nPre-registration is required for this event. Please call 956-584-9156 to pre-register and get additional information about this event and other programs the park has to offer. Bring your kites\, binoculars\, and bug spray for an afternoon-time full of fun and adventure. Reservations required. Please call 956-584-9156.\n\nThis Program is included with park admission.\nPark Admission \n$5 per person over 13\; \n12 and under free\;\n $3 TX residents 65+ yrs old\; \nTexas State Park Passport $60- free admission to all 90+ state parks throughout the entire state for the entire family for an entire year. \n\nPLEASE NOTE: In the event of unforeseen inclement severe weather these programs will be cancelled\n\nAbout Bentsen:   \nBentsen Rio Grande Valley State Park WBC is open from
X-ALT-DESC;FMTTYPE=text/html: FOR IMMEDIATE RELEASE	\n\n 		Bentsen Rio Grande Valley State Park World Birding Center  	\n 	            2800 S. Bentsen Palm Dr. Mission TX\, 78572\n     	           (956) 584-9156 \n\nFamily Fun Day at the Park\nSaturday\, October 24th 11:00 AM – 3:00 PM\n\n\nBentsen Rio Grande Valley State Park\nInvites YOU to \n~A Special Fun Day for the Whole Family ~\n\n\nOctober is a beautiful time of the year especially for Butterflies!\nThis is the time to get outdoors and observe this majestically creatures.\nGet your gear ready and head on to Bentsen state Park!  \n\nPlease join us for a fun and informative program about Butterflies in the Valley! \nEnjoy all the activities for the kids as well as for the adults events include\;\nFamily Hawk Watch 9am – 12pm\nFamily activities: flying kites with Windchasers kite team\, crafts\, games\, tram tours\, butterfly walks\, touch table and much more.\nAfter a long day of family diversion or just enjoying of a beautiful day\, please come in and sit in the park's Café with great view to the gardens and enjoy wildlife watching from the comfort of our air conditioned facility\, while savoring of a smoothie\, sandwich\, cookie\, ice cream and other delicious treats for sale.   \n \nPre-registration is required for this event. Please call 956-584-9156 to pre-register and get additional information about this event and other programs the park has to offer. Bring your kites\, binoculars\, and bug spray for an afternoon-time full of fun and adventure. Reservations required. Please call 956-584-9156.\n\nThis Program is included with park admission.\nPark Admission \n$5 per person over 13\; \n12 and under free\;\n $3 TX residents 65+ yrs old\; \nTexas State Park Passport $60- free admission to all 90+ state parks throughout the entire state for the entire family for an entire year. \n\nPLEASE NOTE: In the event of unforeseen inclement severe weather these programs will be cancelled\n\nAbout Bentsen:   \nBentsen Rio Grande Valley State Park WBC is open from 
LOCATION:Bentsen Rio Grande Valley State Park World Birding Center Exit on La Homa Rd and Bentsen Palm Drive exit 3 to 4 miles South on Bentsen Palm Dr from Exp 83
UID:e.1828.2139
SEQUENCE:3
DTSTAMP:20260422T112003Z
URL:https://business.harlingen.com/events/details/texas-butterfly-day-family-fun-day-10-24-2009-2139
END:VEVENT

END:VCALENDAR
