BEGIN:VCALENDAR
VERSION:2.0
PRODID:-//ChamberMaster//Event Calendar 2.0//EN
METHOD:PUBLISH
X-PUBLISHED-TTL:P3D
REFRESH-INTERVAL:P3D
CALSCALE:GREGORIAN
BEGIN:VEVENT
DTSTART;VALUE=DATE:20120623
DTEND;VALUE=DATE:20120624
TRANSP:TRANSPARENT
X-MICROSOFT-CDO-ALLDAYEVENT:TRUE
SUMMARY:Texas Conjunto Music Hall of Fame 12th Annual Conjunto Music Induction Awards
DESCRIPTION:Doors open at 6:00 p.m.  \nAwards:  7:00 p.m. - 8:15 p.m.\nDance:  8:30 p.m. - 12:00 Midnight \nTicket may be purchase at Harlingen Chamber of Commerce\, San Benito Chamber of Commerce and\nKC Hall San Benito\n\nPre-Sale Tickets:  $10 and $12 at the door. \nFor more information\, call Rey Avila at (956) 245-1666.
X-ALT-DESC;FMTTYPE=text/html:Doors open at 6:00 p.m.  \nAwards:  7:00 p.m. - 8:15 p.m.\nDance:  8:30 p.m. - 12:00 Midnight \nTicket may be purchase at Harlingen Chamber of Commerce\, San Benito Chamber of Commerce and\nKC Hall San Benito\n\nPre-Sale Tickets:  $10 and $12 at the door. \nFor more information\, call Rey Avila at (956) 245-1666.\n \n
LOCATION:
UID:e.1828.3775
SEQUENCE:3
DTSTAMP:20260420T133051Z
URL:https://business.harlingen.com/events/details/texas-conjunto-music-hall-of-fame-12th-annual-conjunto-music-induction-awards-06-23-2012-3775
END:VEVENT

END:VCALENDAR
