BEGIN:VCALENDAR
VERSION:2.0
PRODID:-//ChamberMaster//Event Calendar 2.0//EN
METHOD:PUBLISH
X-PUBLISHED-TTL:P3D
REFRESH-INTERVAL:P3D
CALSCALE:GREGORIAN
BEGIN:VEVENT
DTSTART:20120212T020000Z
DTEND:20120211T180000Z
X-MICROSOFT-CDO-ALLDAYEVENT:FALSE
SUMMARY:Texas Conjunto Music Hall of Fame's 6th Annual Valentine's Dance
DESCRIPTION:Music by Noe Pro & The Band. Tickets on sale at the Harlingen Chamber of Commerce for $20. per person At the door: $25. per person. To reserve a table call Rey Avila  must purchase 8 tickets to reserve a whole table.  Proceeds to benefit the Texas Conjunto Music Hall of Fame & Scholarship Fund. Semi-Formal
X-ALT-DESC;FMTTYPE=text/html:Music by Noe Pro & The Band. Tickets on sale at the Harlingen Chamber of Commerce for $20. per person At the door: $25. per person. To reserve a table call Rey Avila  must purchase 8 tickets to reserve a whole table.  Proceeds to benefit the Texas Conjunto Music Hall of Fame & Scholarship Fund. Semi-Formal \n
LOCATION:
UID:e.1828.3354
SEQUENCE:3
DTSTAMP:20260420T213653Z
URL:https://business.harlingen.com/events/details/texas-conjunto-music-hall-of-fame-s-6th-annual-valentine-s-dance-02-11-2012-3354
END:VEVENT

END:VCALENDAR
