BEGIN:VCALENDAR
VERSION:2.0
PRODID:-//ChamberMaster//Event Calendar 2.0//EN
METHOD:PUBLISH
X-PUBLISHED-TTL:P3D
REFRESH-INTERVAL:P3D
CALSCALE:GREGORIAN
BEGIN:VEVENT
DTSTART:20090910T133000Z
DTEND:20090910T213000Z
X-MICROSOFT-CDO-ALLDAYEVENT:FALSE
SUMMARY:Texas Film Commission Workshop
DESCRIPTION:The Texas Film Commission\, in partnership with the McAllen Chamber of Commerce\, the Rio Grande Valley Film Commission and the Texas Leadership Institute\, invites you to join us on Thursday\, September 10th\, 2009\, in McAllen for "When Hollywood Comes to Town\," a day-long workshop to show your community how to put its best foot forward for on-location filming. \n    \n    \n        At the workshop\, you'll meet film industry professionals\, covering topics including how location decisions are made \n    \n    \n          learn how to document your locations for inclusion in the Texas Film Commission's database. (Bring your digital camera\; this is hands-on instruction.) \n    \n    \n          receive templates and instructions on how your city can create an effective\, professional and film-savvy film policy. \n    \n    \n        Participation in this $99 workshop is your first step towards your city's certification as a Texas Film Friendly Community. For information on the program: http://governor.state.tx.us/film/film_friendly/program_certification/ \n    \n    \n        The registration fee includes lunch. (If you have special dietary needs\, just let me know in advance.) Space is limited\, so please sign up soon. Future workshops are being scheduled for the fall. For more information\, please contact Carol Pirie\, Deputy Director / Program Manager\, Film Friendly Texas\, Texas Film Commission 512-463-9200.
X-ALT-DESC;FMTTYPE=text/html:<html>\n<head>\n</head>\n<body>\n    <p>\n        <font face="Arial" size="1">The Texas Film Commission\, in partnership with the McAllen Chamber of Commerce\, the Rio Grande Valley Film Commission and the Texas Leadership Institute\, invites you to join us on Thursday\, September 10th\, 2009\, in McAllen for "When Hollywood Comes to Town\," a day-long workshop to show your community how to put its best foot forward for on-location filming. </font>\n    </p>\n    <p>\n        <font face="Arial" size="1">At the workshop\, you'll meet film industry professionals\, covering topics including how location decisions are made </font>\n    </p>\n    <p>\n        <font face="Arial" size="1">&bull\; learn how to document your locations for inclusion in the Texas Film Commission's database. (Bring your digital camera\; this is hands-on instruction.) </font>\n    </p>\n    <p>\n        <font face="Arial" size="1">&bull\; receive templates and instructions on how your city can create an effective\, professional and film-savvy film policy. </font>\n    </p>\n    <p>\n        <font face="Arial" size="1">Participation in this $99 workshop is your first step towards your city's certification as a Texas Film Friendly Community. For information on the program: </font><a href="http://governor.state.tx.us/film/film_friendly/program_certification/"><font face="Arial" size="1">http://governor.state.tx.us/film/film_friendly/program_certification/</font></a><font face="Arial" size="1"> </font>\n    </p>\n    <p>\n        <font face="Arial" size="1">The registration fee includes lunch. (If you have special dietary needs\, just let me know in advance.) Space is limited\, so please sign up soon. Future workshops are being scheduled for the fall. For more information\, please contact Carol Pirie\, Deputy Director / Program Manager\, Film Friendly Texas\, Texas Film Commission 512-463-9200. </font>\n    </p>\n</body>\n</html>\n
LOCATION:
UID:e.1828.2065
SEQUENCE:3
DTSTAMP:20260422T111746Z
URL:https://business.harlingen.com/events/details/texas-film-commission-workshop-09-10-2009-2065
END:VEVENT

END:VCALENDAR
