BEGIN:VCALENDAR
VERSION:2.0
PRODID:-//ChamberMaster//Event Calendar 2.0//EN
METHOD:PUBLISH
X-PUBLISHED-TTL:P3D
REFRESH-INTERVAL:P3D
CALSCALE:GREGORIAN
BEGIN:VEVENT
DTSTART:20091014T190000Z
DTEND:20091014T210000Z
X-MICROSOFT-CDO-ALLDAYEVENT:FALSE
SUMMARY:Texas Friendly Hospitality Program Seminar
DESCRIPTION:To help business owners train their employees in customer service\, The University of Texas-Pan American Small Business Development Center (SBDC) is proud to announce their certification in facilitating the Texas Friendly Hospitality Program to the local community.\n \nThe program's customer service training provides instruction to business managers and employees\, community organizations\, and a variety of other groups. The primary goal of these workshops is to teach participants how to manage and enhance the delivery of quality service\, as well as to identify the gap between how well a business thinks it is doing and how well it is actually performing.\n \nThis comprehensive training focuses on the six hospitality habits necessary for quality customer service: 1) make a good first impression\, 2) know your job\, 3) know your community\, 4) communicate clearly\, 5) handle problems effectively\, and 6) make a good last impression. Other topics emphasized include business etiquette\, phone courtesy\, working with difficult people\, handling complaints\, cultural etiquette\, and communication. Attendees also receive a Texas Friendly sticker as well as a certificate to showcase in their businesses upon completing the class.\n \nThe workshop has a $25 fee and is scheduled for October 14 from 2 to 4 pm at the Harlingen Area Chamber of Commerce\, located at 311 E Tyler in Harlingen. \n \nTo register for the session\, please call the SBDC at (956) 292-7535.
X-ALT-DESC;FMTTYPE=text/html:To help business owners train their employees in customer service\, The University of Texas-Pan American Small Business Development Center (SBDC) is proud to announce their certification in facilitating the Texas Friendly Hospitality Program to the local community.\n \nThe program's customer service training provides instruction to business managers and employees\, community organizations\, and a variety of other groups. The primary goal of these workshops is to teach participants how to manage and enhance the delivery of quality service\, as well as to identify the gap between how well a business thinks it is doing and how well it is actually performing.\n \nThis comprehensive training focuses on the six hospitality habits necessary for quality customer service: 1) make a good first impression\, 2) know your job\, 3) know your community\, 4) communicate clearly\, 5) handle problems effectively\, and 6) make a good last impression. Other topics emphasized include business etiquette\, phone courtesy\, working with difficult people\, handling complaints\, cultural etiquette\, and communication. Attendees also receive a Texas Friendly sticker as well as a certificate to showcase in their businesses upon completing the class.\n \nThe workshop has a $25 fee and is scheduled for October 14 from 2 to 4 pm at the Harlingen Area Chamber of Commerce\, located at 311 E Tyler in Harlingen. \n \nTo register for the session\, please call the SBDC at (956) 292-7535.\n
LOCATION:
UID:e.1828.2118
SEQUENCE:3
DTSTAMP:20260422T111604Z
URL:https://business.harlingen.com/events/details/texas-friendly-hospitality-program-seminar-10-14-2009-2118
END:VEVENT

END:VCALENDAR
