BEGIN:VCALENDAR
VERSION:2.0
PRODID:-//ChamberMaster//Event Calendar 2.0//EN
METHOD:PUBLISH
X-PUBLISHED-TTL:P3D
REFRESH-INTERVAL:P3D
CALSCALE:GREGORIAN
BEGIN:VEVENT
DTSTART;VALUE=DATE:20110324
DTEND;VALUE=DATE:20110325
TRANSP:TRANSPARENT
X-MICROSOFT-CDO-ALLDAYEVENT:TRUE
SUMMARY:Texas Hold' Em Tournament 2nd Annual Charity RGV Partnership Chamber of Commerce
DESCRIPTION:Rio Grande Valley Partnership Regional Chamber of Commerce is CALLING ALL POKER PLAYERS. The \nRio Grande Valley Partnership is hosting its 2nd Annual Charity Texas Hold' Em Tournament.\nThursday\, March 24\, 2011 Mixer: 5:30 pm Registration: 5:45 pm Tournament begins: 6:15 pm VIP Lounge of the State Farm Arena 2600 N. 10th (Hwy 336) Hidalgo\, TX 78557. Limited to the first 50 PAID entrants $100 per person GREAT PRIZES.  To print out a registration go to www.valleychamber.com. Questions contact Samantha at Samantha@vallechamber.com or 953.968.3141.
X-ALT-DESC;FMTTYPE=text/html:Rio Grande Valley Partnership Regional Chamber of Commerce is CALLING ALL POKER PLAYERS. The \nRio Grande Valley Partnership is hosting its 2nd Annual Charity Texas Hold' Em Tournament.\nThursday\, March 24\, 2011 Mixer: 5:30 pm Registration: 5:45 pm Tournament begins: 6:15 pm VIP Lounge of the State Farm Arena 2600 N. 10th (Hwy 336) Hidalgo\, TX 78557. Limited to the first 50 PAID entrants $100 per person GREAT PRIZES.  To print out a registration go to www.valleychamber.com. Questions contact Samantha at Samantha@vallechamber.com or 953.968.3141.
LOCATION:State Farm Arena (VIP Lounge)
UID:e.1828.2968
SEQUENCE:3
DTSTAMP:20260421T125219Z
URL:https://business.harlingen.com/events/details/texas-hold-em-tournament-2nd-annual-charity-rgv-partnership-chamber-of-commerce-03-24-2011-2968
END:VEVENT

END:VCALENDAR
