BEGIN:VCALENDAR
VERSION:2.0
PRODID:-//ChamberMaster//Event Calendar 2.0//EN
METHOD:PUBLISH
X-PUBLISHED-TTL:P3D
REFRESH-INTERVAL:P3D
CALSCALE:GREGORIAN
BEGIN:VEVENT
DTSTART:20100514T150000Z
DTEND:20100514T200000Z
X-MICROSOFT-CDO-ALLDAYEVENT:FALSE
SUMMARY:TEXAS RALLY DAY!
DESCRIPTION:Do you LOVE The State of Texas? Do you LOVE travel and tourism? If so\, come out and celebrate TEXAS TRAVEL AND TOURISM WEEK with us right here in HARLINGEN! The Texas Rally Day will be located at the Texas Travel Information Center and will be on May 14th\, 2010 at 10 am-3 pm. TxDOT's very own Mr. Amadeo Saenz will be speaking\, souvenirs\, gift baskets\, music\, and more will be available! You will not want to miss it!  FREE EVENT!
X-ALT-DESC;FMTTYPE=text/html:Do you LOVE The State of Texas? Do you LOVE travel and tourism? If so\, come out and celebrate TEXAS TRAVEL AND TOURISM WEEK with us right here in HARLINGEN! The Texas Rally Day will be located at the Texas Travel Information Center and will be on May 14th\, 2010 at 10 am-3 pm. TxDOT's very own Mr. Amadeo Saenz will be speaking\, souvenirs\, gift baskets\, music\, and more will be available! You will not want to miss it!  FREE EVENT!\n\n
LOCATION:(Parking Lot)
UID:e.1828.2502
SEQUENCE:3
DTSTAMP:20260422T045319Z
URL:https://business.harlingen.com/events/details/texas-rally-day-05-14-2010-2502
END:VEVENT

END:VCALENDAR
