BEGIN:VCALENDAR
VERSION:2.0
PRODID:-//ChamberMaster//Event Calendar 2.0//EN
METHOD:PUBLISH
X-PUBLISHED-TTL:P3D
REFRESH-INTERVAL:P3D
CALSCALE:GREGORIAN
BEGIN:VEVENT
DTSTART:20110719T150000Z
DTEND:20110719T150000Z
X-MICROSOFT-CDO-ALLDAYEVENT:FALSE
SUMMARY:Texas Regional Bank
DESCRIPTION:Come celebrate the grand opening of Texas Regional Bank with a ribbon cutting ceremony. Continental breakfast will be served.
X-ALT-DESC;FMTTYPE=text/html:Come celebrate the grand opening of Texas Regional Bank with a ribbon cutting ceremony. Continental breakfast will be served.\n
LOCATION:
UID:e.1828.3103
SEQUENCE:3
DTSTAMP:20260421T063934Z
URL:https://business.harlingen.com/events/details/texas-regional-bank-07-19-2011-3103
END:VEVENT

END:VCALENDAR
