BEGIN:VCALENDAR
VERSION:2.0
PRODID:-//ChamberMaster//Event Calendar 2.0//EN
METHOD:PUBLISH
X-PUBLISHED-TTL:P3D
REFRESH-INTERVAL:P3D
CALSCALE:GREGORIAN
BEGIN:VEVENT
DTSTART:20110719T223000Z
DTEND:20110719T223000Z
X-MICROSOFT-CDO-ALLDAYEVENT:FALSE
SUMMARY:Texas Regional Bank Business After Hours Mixer
DESCRIPTION:Please join us in a Business After Hours Mixer to congratulate Texas Regional Bank on their Grand Opening. Come and be social and enjoy the Hors D'oeuvres served.
X-ALT-DESC;FMTTYPE=text/html:Please join us in a Business After Hours Mixer to congratulate Texas Regional Bank on their Grand Opening. Come and be social and enjoy the Hors D'oeuvres served. \n
LOCATION:
UID:e.1828.3104
SEQUENCE:3
DTSTAMP:20260421T081521Z
URL:https://business.harlingen.com/events/details/texas-regional-bank-business-after-hours-mixer-07-19-2011-3104
END:VEVENT

END:VCALENDAR
