BEGIN:VCALENDAR
VERSION:2.0
PRODID:-//ChamberMaster//Event Calendar 2.0//EN
METHOD:PUBLISH
X-PUBLISHED-TTL:P3D
REFRESH-INTERVAL:P3D
CALSCALE:GREGORIAN
BEGIN:VEVENT
DTSTART:20110330T130000Z
DTEND:20110330T180000Z
X-MICROSOFT-CDO-ALLDAYEVENT:FALSE
SUMMARY:Texas State Technical College Department of Career Services
DESCRIPTION:Texas State Technical College Department of Career Services is sponsoring an Interview Fair.Our objective is to give students an opportunity to have three job interviews\, learn from them and have NO negative \nconsequences.   \n\nWe need 40 volunteers from Harlingen's business community to conduct these interviews on Wednesday\, March 30\, 2011.  The event will be held at TSTC's Cultural Arts Center from 8:00 am - 1:00 pm.  Continental breakfast will be served at 8:00 am and Interviewer Orientation will begin at 8:30 am.\n\nPlease contact our TSTC Career Services Department if you could help with this meaningful event.\nThanks so much and share the word with your business friends. \nContact Josie.Saldivar@harlingen.tstc.edu956-364-4131 or Gina.Saenz@harlingen.tstc.edu 956-364-4107
X-ALT-DESC;FMTTYPE=text/html:Texas State Technical College Department of Career Services is sponsoring an Interview Fair.Our objective is to give students an opportunity to have three job interviews\, learn from them and have NO negative \nconsequences.   \n\nWe need 40 volunteers from Harlingen's business community to conduct these interviews on Wednesday\, March 30\, 2011.  The event will be held at TSTC's Cultural Arts Center from 8:00 am - 1:00 pm.  Continental breakfast will be served at 8:00 am and Interviewer Orientation will begin at 8:30 am.\n\nPlease contact our TSTC Career Services Department if you could help with this meaningful event.\nThanks so much and share the word with your business friends. \nContact Josie.Saldivar@harlingen.tstc.edu956-364-4131 or Gina.Saenz@harlingen.tstc.edu 956-364-4107\n
LOCATION:Loop 499
UID:e.1828.2991
SEQUENCE:3
DTSTAMP:20260421T140100Z
URL:https://business.harlingen.com/events/details/texas-state-technical-college-department-of-career-services-03-30-2011-2991
END:VEVENT

END:VCALENDAR
