BEGIN:VCALENDAR
VERSION:2.0
PRODID:-//ChamberMaster//Event Calendar 2.0//EN
METHOD:PUBLISH
X-PUBLISHED-TTL:P3D
REFRESH-INTERVAL:P3D
CALSCALE:GREGORIAN
BEGIN:VEVENT
DTSTART:20120614T223000Z
DTEND:20120614T223000Z
X-MICROSOFT-CDO-ALLDAYEVENT:FALSE
SUMMARY:The Aria Nail Spa & Salon
DESCRIPTION:Come join us for a ribbon cutting celebration!  Refreshments will be served\, door prizes will be given\, and anyone who makes an appointment on the day of the event will receive a 15% discount off the service!
X-ALT-DESC;FMTTYPE=text/html:Come join us for a ribbon cutting celebration!  Refreshments will be served\, door prizes will be given\, and anyone who makes an appointment on the day of the event will receive a 15% discount off the service!\n
LOCATION:
UID:e.1828.3741
SEQUENCE:3
DTSTAMP:20260420T131800Z
URL:https://business.harlingen.com/events/details/the-aria-nail-spa-salon-06-14-2012-3741
END:VEVENT

END:VCALENDAR
