BEGIN:VCALENDAR
VERSION:2.0
PRODID:-//ChamberMaster//Event Calendar 2.0//EN
METHOD:PUBLISH
X-PUBLISHED-TTL:P3D
REFRESH-INTERVAL:P3D
CALSCALE:GREGORIAN
BEGIN:VEVENT
DTSTART:20101002T190000Z
DTEND:20101002T210000Z
X-MICROSOFT-CDO-ALLDAYEVENT:FALSE
SUMMARY:The Art of Relaxation
DESCRIPTION:LEARN:\nThe Stress Cycle\, how to identify and let go of tension\, the effects of stress on the Central Nervous System\, the power of breath.\nPRACTICE:\nPassive yoga postures\, dynamic breathwork\, "on-the-spot" relaxation techniques\, stress relief and sense withdrawl.\nSIGN UP SOON!!! WORKSHOPS FILL UP FAST!\n$25.00 per person
X-ALT-DESC;FMTTYPE=text/html:LEARN:\nThe Stress Cycle\, how to identify and let go of tension\, the effects of stress on the Central Nervous System\, the power of breath.\nPRACTICE:\nPassive yoga postures\, dynamic breathwork\, "on-the-spot" relaxation techniques\, stress relief and sense withdrawl.\nSIGN UP SOON!!! WORKSHOPS FILL UP FAST!\n$25.00 per person
LOCATION:Harlingen Yoga Center at El Mercado Shopping Center\, Suite 36 Suite faces Morgan Blvd
UID:e.1828.2775
SEQUENCE:3
DTSTAMP:20260421T203639Z
URL:https://business.harlingen.com/events/details/the-art-of-relaxation-10-02-2010-2775
END:VEVENT

END:VCALENDAR
