BEGIN:VCALENDAR
VERSION:2.0
PRODID:-//ChamberMaster//Event Calendar 2.0//EN
METHOD:PUBLISH
X-PUBLISHED-TTL:P3D
REFRESH-INTERVAL:P3D
CALSCALE:GREGORIAN
BEGIN:VEVENT
DTSTART:20101117T013000Z
DTEND:20101117T033000Z
X-MICROSOFT-CDO-ALLDAYEVENT:FALSE
SUMMARY:The Arts Center Signature Series: Ahn Trio
DESCRIPTION:Born in Seoul\, Korea and educated at the Juilliard in New York City\, the Ahn Trio (cellist Maria\, pianist Lucia\, and violinist Angella) are constantly redefining the art and architecture of chamber music. Breathing new life into the standard piano-trio literature with commissioned works from visionary composers such as Michael Nyman\, Maurice Jarre\, Pat Metheny\, Paul Schoenfield\, Mark O' Connor\, Kenji Bunch\, Nikolai Kapustin and Paul Chihara\, the Ahn Trio brings a new energy and excitement to the chamber music world.
X-ALT-DESC;FMTTYPE=text/html:Born in Seoul\, Korea and educated at the Juilliard in New York City\, the Ahn Trio (cellist Maria\, pianist Lucia\, and violinist Angella) are constantly redefining the art and architecture of chamber music. Breathing new life into the standard piano-trio literature with commissioned works from visionary composers such as Michael Nyman\, Maurice Jarre\, Pat Metheny\, Paul Schoenfield\, Mark O' Connor\, Kenji Bunch\, Nikolai Kapustin and Paul Chihara\, the Ahn Trio brings a new energy and excitement to the chamber music world.\n\n
LOCATION:The Arts Center at UTB/TSC
UID:e.1828.2725
SEQUENCE:3
DTSTAMP:20260421T190711Z
URL:https://business.harlingen.com/events/details/the-arts-center-signature-series-ahn-trio-11-16-2010-2725
END:VEVENT

END:VCALENDAR
