BEGIN:VCALENDAR
VERSION:2.0
PRODID:-//ChamberMaster//Event Calendar 2.0//EN
METHOD:PUBLISH
X-PUBLISHED-TTL:P3D
REFRESH-INTERVAL:P3D
CALSCALE:GREGORIAN
BEGIN:VEVENT
DTSTART:20110223T013000Z
DTEND:20110223T023000Z
X-MICROSOFT-CDO-ALLDAYEVENT:FALSE
SUMMARY:The Arts Center Signature Series: All Shook Up
DESCRIPTION:It's a square little town until a motorcycle riding\, guitar playing\, hip swiveling\, hunk rides in and has everyone jumping out of their blue suede shoes in "All Shook Up."\n\nIt's "Footloose\," "Grease" and "Happy Days" all rolled into one zany story.\n\nWith more than 24 Elvis hits\, "All Shook Up" kick starts a chain reaction of romances and rebellion through the power of rock and roll music.
X-ALT-DESC;FMTTYPE=text/html:It's a square little town until a motorcycle riding\, guitar playing\, hip swiveling\, hunk rides in and has everyone jumping out of their blue suede shoes in "All Shook Up."\n\nIt's "Footloose\," "Grease" and "Happy Days" all rolled into one zany story.\n\nWith more than 24 Elvis hits\, "All Shook Up" kick starts a chain reaction of romances and rebellion through the power of rock and roll music.\n\n \n
LOCATION:The Arts Center at UTB/TSC
UID:e.1828.2728
SEQUENCE:3
DTSTAMP:20260421T143036Z
URL:https://business.harlingen.com/events/details/the-arts-center-signature-series-all-shook-up-02-22-2011-2728
END:VEVENT

END:VCALENDAR
