BEGIN:VCALENDAR
VERSION:2.0
PRODID:-//ChamberMaster//Event Calendar 2.0//EN
METHOD:PUBLISH
X-PUBLISHED-TTL:P3D
REFRESH-INTERVAL:P3D
CALSCALE:GREGORIAN
BEGIN:VEVENT
DTSTART:20101212T013000Z
DTEND:20101212T023000Z
X-MICROSOFT-CDO-ALLDAYEVENT:FALSE
SUMMARY:The Arts Center Signature Series: Handel's Messiah.
DESCRIPTION:Lift your Christmas spirits with a sparkling performance of Handel's Messiah.\n\nMaestro Dennis Pitcock conducts an 80-voice choir\, full orchestra and top-flight soloists in two performances of this seasonal favorite.
X-ALT-DESC;FMTTYPE=text/html:Lift your Christmas spirits with a sparkling performance of Handel's Messiah.\n\nMaestro Dennis Pitcock conducts an 80-voice choir\, full orchestra and top-flight soloists in two performances of this seasonal favorite.\n
LOCATION:The Arts Center at UTB/TSC
UID:e.1828.2726
SEQUENCE:3
DTSTAMP:20260421T190703Z
URL:https://business.harlingen.com/events/details/the-arts-center-signature-series-handel-s-messiah-12-11-2010-2726
END:VEVENT

END:VCALENDAR
