BEGIN:VCALENDAR
VERSION:2.0
PRODID:-//ChamberMaster//Event Calendar 2.0//EN
METHOD:PUBLISH
X-PUBLISHED-TTL:P3D
REFRESH-INTERVAL:P3D
CALSCALE:GREGORIAN
BEGIN:VEVENT
DTSTART:20101002T003000Z
DTEND:20101002T023000Z
X-MICROSOFT-CDO-ALLDAYEVENT:FALSE
SUMMARY:The Arts Center Signature Series: Luna Negra and Turtle Island Quartet
DESCRIPTION:Each group will perform separate parts of the program. Then they will combine to present Danzón. Former artistic director Eduardo Vilaro is returning to his roots for Luna Negra Dance Theater's 10th anniversary season with the creation of a new work entitled Danzón. The Danzón has been called the official dance of Cuba\, and it initially evolved from Haitian contradance. Its current form was created by Miguel Faílde Pérez in 1879\, and much of the original structure remains. It is this continuity that defines Danzón as a truly unique\, living art form.
X-ALT-DESC;FMTTYPE=text/html:Each group will perform separate parts of the program. Then they will combine to present Danzón. Former artistic director Eduardo Vilaro is returning to his roots for Luna Negra Dance Theater's 10th anniversary season with the creation of a new work entitled Danzón. The Danzón has been called the official dance of Cuba\, and it initially evolved from Haitian contradance. Its current form was created by Miguel Faílde Pérez in 1879\, and much of the original structure remains. It is this continuity that defines Danzón as a truly unique\, living art form.\n\n
LOCATION:The Arts Center at UTB/TSC
UID:e.1828.2723
SEQUENCE:3
DTSTAMP:20260421T223639Z
URL:https://business.harlingen.com/events/details/the-arts-center-signature-series-luna-negra-and-turtle-island-quartet-10-01-2010-2723
END:VEVENT

END:VCALENDAR
