BEGIN:VCALENDAR
VERSION:2.0
PRODID:-//ChamberMaster//Event Calendar 2.0//EN
METHOD:PUBLISH
X-PUBLISHED-TTL:P3D
REFRESH-INTERVAL:P3D
CALSCALE:GREGORIAN
BEGIN:VEVENT
DTSTART:20110512T003000Z
DTEND:20110512T013000Z
X-MICROSOFT-CDO-ALLDAYEVENT:FALSE
SUMMARY:The Arts Center Signature Series: Noche Flamenca
DESCRIPTION:Hailed by critics everywhere for its transcendent and deeply emotional performances\, Noche Flamenca is recognized as the most authentic flamenco touring company in the world today.\n\nAll aspects of flamenco dance\, song and music are interrelated and given equal weight in the presentations of Noche Flamenca\, creating a true communal spirit within the company the very heart and soul of flamenco.
X-ALT-DESC;FMTTYPE=text/html:Hailed by critics everywhere for its transcendent and deeply emotional performances\, Noche Flamenca is recognized as the most authentic flamenco touring company in the world today.\n\nAll aspects of flamenco dance\, song and music are interrelated and given equal weight in the presentations of Noche Flamenca\, creating a true communal spirit within the company the very heart and soul of flamenco.\n\n
LOCATION:The Arts Center at UTB/TSC
UID:e.1828.2730
SEQUENCE:3
DTSTAMP:20260421T094921Z
URL:https://business.harlingen.com/events/details/the-arts-center-signature-series-noche-flamenca-05-11-2011-2730
END:VEVENT

END:VCALENDAR
