BEGIN:VCALENDAR
VERSION:2.0
PRODID:-//ChamberMaster//Event Calendar 2.0//EN
METHOD:PUBLISH
X-PUBLISHED-TTL:P3D
REFRESH-INTERVAL:P3D
CALSCALE:GREGORIAN
BEGIN:VEVENT
DTSTART:20110129T013000Z
DTEND:20110129T023000Z
X-MICROSOFT-CDO-ALLDAYEVENT:FALSE
SUMMARY:The Arts Center Signature Series: Paragon Orchestra\, The Mark of Zorro
DESCRIPTION:Travel back in time as we present the feature length silent film "The Mark of Zorro" on the big screen with its original musical score recreated live on our stage.
X-ALT-DESC;FMTTYPE=text/html:Travel back in time as we present the feature length silent film "The Mark of Zorro" on the big screen with its original musical score recreated live on our stage.\n\n
LOCATION:The Arts Center at UTB/TSC
UID:e.1828.2727
SEQUENCE:3
DTSTAMP:20260421T155329Z
URL:https://business.harlingen.com/events/details/the-arts-center-signature-series-paragon-orchestra-the-mark-of-zorro-01-28-2011-2727
END:VEVENT

END:VCALENDAR
