BEGIN:VCALENDAR
VERSION:2.0
PRODID:-//ChamberMaster//Event Calendar 2.0//EN
METHOD:PUBLISH
X-PUBLISHED-TTL:P3D
REFRESH-INTERVAL:P3D
CALSCALE:GREGORIAN
BEGIN:VEVENT
DTSTART:20100918T003000Z
DTEND:20100918T023000Z
X-MICROSOFT-CDO-ALLDAYEVENT:FALSE
SUMMARY:The Arts center Signature Series: Tambuco
DESCRIPTION:Nominated three times for Grammy Awards\, including Best Classical Album\, Tambuco was founded in 1993 by four distinguished Mexican musicians and is ranked among the finest and most innovative in the world. These four musicians refuse to be tied down to one style\, with a repertoire ranging from structuralist percussion music to a wide range of ethnic drum music and avante garde sound interpretation. The one constant is their desire for perfection and unique\, virtuoso performance.
X-ALT-DESC;FMTTYPE=text/html:Nominated three times for Grammy Awards\, including Best Classical Album\, Tambuco was founded in 1993 by four distinguished Mexican musicians and is ranked among the finest and most innovative in the world. These four musicians refuse to be tied down to one style\, with a repertoire ranging from structuralist percussion music to a wide range of ethnic drum music and avante garde sound interpretation. The one constant is their desire for perfection and unique\, virtuoso performance.\n\n
LOCATION:The Arts Center at UTB/TSC
UID:e.1828.2724
SEQUENCE:3
DTSTAMP:20260422T001859Z
URL:https://business.harlingen.com/events/details/the-arts-center-signature-series-tambuco-09-17-2010-2724
END:VEVENT

END:VCALENDAR
