BEGIN:VCALENDAR
VERSION:2.0
PRODID:-//ChamberMaster//Event Calendar 2.0//EN
METHOD:PUBLISH
X-PUBLISHED-TTL:P3D
REFRESH-INTERVAL:P3D
CALSCALE:GREGORIAN
BEGIN:VEVENT
DTSTART:20110401T003000Z
DTEND:20110401T013000Z
X-MICROSOFT-CDO-ALLDAYEVENT:FALSE
SUMMARY:The Arts Center Signature Series: The Ramsey Lewis Trio
DESCRIPTION:Pianist Ramsey Lewis has been playing an infectious blend of gospel\, classical and jazz music for over fifty years. He has three Grammy Awards and seven gold records to his credit including "The In Crowd\," "Hang On Sloopy" and "Wade In The Water."\n\nEnjoy The Art Center's superb acoustics and intimate seating for an exhilarating evening with Ramsey with his long-time trio\, including Larry Gray on bass and Leon Joyce on drums.
X-ALT-DESC;FMTTYPE=text/html:Pianist Ramsey Lewis has been playing an infectious blend of gospel\, classical and jazz music for over fifty years. He has three Grammy Awards and seven gold records to his credit including "The In Crowd\," "Hang On Sloopy" and "Wade In The Water."\n\nEnjoy The Art Center's superb acoustics and intimate seating for an exhilarating evening with Ramsey with his long-time trio\, including Larry Gray on bass and Leon Joyce on drums.\n\n\n \n
LOCATION:The Arts Center at UTB/TSC
UID:e.1828.2729
SEQUENCE:3
DTSTAMP:20260421T125220Z
URL:https://business.harlingen.com/events/details/the-arts-center-signature-series-the-ramsey-lewis-trio-03-31-2011-2729
END:VEVENT

END:VCALENDAR
