BEGIN:VCALENDAR
VERSION:2.0
PRODID:-//ChamberMaster//Event Calendar 2.0//EN
METHOD:PUBLISH
X-PUBLISHED-TTL:P3D
REFRESH-INTERVAL:P3D
CALSCALE:GREGORIAN
BEGIN:VEVENT
DTSTART;VALUE=DATE:20100205
DTEND;VALUE=DATE:20100222
TRANSP:TRANSPARENT
X-MICROSOFT-CDO-ALLDAYEVENT:TRUE
SUMMARY:The Ballet Folklórico UT-Pan American
DESCRIPTION:The Ballet Folklórico UT-Pan American will present ALEGRIA 2010\, A 40th Anniversary Celebration\, on February 5\, at 7:30 p.m.\; February 6   February 12 at 7:30 p.m.\; February 13   February 19 at 7:30 p.m.\, and February 20   $5 tickets for children and UTPA students/faculty/staff will also be available. \nAdditional events have been slated as part of the 40th Anniversary Celebration. An exclusive premier dinner and a show will be held on Thursday\, February 4. The dinner will be held at the UTPA Fine Arts Auditorium Court Yard and follow with a performance of ALEGRIA 2010 in the Fine Arts Auditorium at 7:30 p.m. Tickets for this special premiere event are $50 per person. Persons interested in attending should call the Dance Office at 381-2230
X-ALT-DESC;FMTTYPE=text/html:The Ballet Folklórico UT-Pan American will present ALEGRIA 2010\, A 40th Anniversary Celebration\, on February 5\, at 7:30 p.m.\; February 6 & 7 at 2 p.m.\; February 12 at 7:30 p.m.\; February 13 & 14 at 2 p.m.\; February 19 at 7:30 p.m.\, and February 20 & 21 at 2 p.m. \nAll concerts will be held at the UTPA Fine Arts Auditorium in Edinburg\, Texas. Adult advance sale tickets are $8 and available at the IBC Bank Wal-Mart branches Valley-wide and at the UTPA Payments and Collections Office. \nAdult tickets will be available at the door for $10\; $5 tickets for children and UTPA students/faculty/staff will also be available. \nAdditional events have been slated as part of the 40th Anniversary Celebration. An exclusive premier dinner and a show will be held on Thursday\, February 4. The dinner will be held at the UTPA Fine Arts Auditorium Court Yard and follow with a performance of ALEGRIA 2010 in the Fine Arts Auditorium at 7:30 p.m. Tickets for this special premiere event are $50 per person. Persons interested in attending should call the Dance Office at 381-2230\n
LOCATION:
UID:e.1828.2333
SEQUENCE:3
DTSTAMP:20260422T112100Z
URL:https://business.harlingen.com/events/details/the-ballet-folkl&#243;rico-ut-pan-american-02-05-2010-2333
END:VEVENT

END:VCALENDAR
