BEGIN:VCALENDAR
VERSION:2.0
PRODID:-//ChamberMaster//Event Calendar 2.0//EN
METHOD:PUBLISH
X-PUBLISHED-TTL:P3D
REFRESH-INTERVAL:P3D
CALSCALE:GREGORIAN
BEGIN:VEVENT
DTSTART;VALUE=DATE:20120304
DTEND;VALUE=DATE:20120305
TRANSP:TRANSPARENT
X-MICROSOFT-CDO-ALLDAYEVENT:TRUE
SUMMARY:THE BIG SQUEEZE 2012 ACCORDION COMPETITION and CONCERT
DESCRIPTION:Auditions pre -scheduled will begin at 3p.m. followed by a Concert featuring the Contestants and the organizers back up Conjunto. For rules and regulations go to WWW.TEXASFOLKLIFE.ORG
X-ALT-DESC;FMTTYPE=text/html:Auditions pre -scheduled will begin at 3p.m. followed by a Concert featuring the Contestants and the organizers back up Conjunto. For rules and regulations go to WWW.TEXASFOLKLIFE.ORG\n \n
LOCATION:
UID:e.1828.3458
SEQUENCE:3
DTSTAMP:20260420T182117Z
URL:https://business.harlingen.com/events/details/the-big-squeeze-2012-accordion-competition-and-concert-03-04-2012-3458
END:VEVENT

END:VCALENDAR
