BEGIN:VCALENDAR
VERSION:2.0
PRODID:-//ChamberMaster//Event Calendar 2.0//EN
METHOD:PUBLISH
X-PUBLISHED-TTL:P3D
REFRESH-INTERVAL:P3D
CALSCALE:GREGORIAN
BEGIN:VEVENT
DTSTART:20120830T223000Z
DTEND:20120830T223000Z
X-MICROSOFT-CDO-ALLDAYEVENT:FALSE
SUMMARY:The Bod Squad Training One Year Anniversary and Ribbon Cutting
DESCRIPTION:Come join us for our one year anniversary and ribbon cutting celebration!  Refreshments will be served!
X-ALT-DESC;FMTTYPE=text/html:Come join us for our one year anniversary and ribbon cutting celebration!  Refreshments will be served!  \n
LOCATION:
UID:e.1828.3929
SEQUENCE:3
DTSTAMP:20260420T102138Z
URL:https://business.harlingen.com/events/details/the-bod-squad-training-one-year-anniversary-and-ribbon-cutting-08-30-2012-3929
END:VEVENT

END:VCALENDAR
