BEGIN:VCALENDAR
VERSION:2.0
PRODID:-//ChamberMaster//Event Calendar 2.0//EN
METHOD:PUBLISH
X-PUBLISHED-TTL:P3D
REFRESH-INTERVAL:P3D
CALSCALE:GREGORIAN
BEGIN:VEVENT
DTSTART:20120515T230000Z
DTEND:20120516T020000Z
X-MICROSOFT-CDO-ALLDAYEVENT:FALSE
SUMMARY:The Cellar Wine Tasting & Raffle benefiting the Family Crisis Center of Harlingen
DESCRIPTION:Tickets may be purchased at both The Cellar and the Family Crisis Center in Harlingen for $10 each.   \nTicket and Raffle proceeds and a portion of the wine sales go to further the work of the Family Crisis Center. For more information\, call (956) 365-4901.
X-ALT-DESC;FMTTYPE=text/html:Tickets may be purchased at both The Cellar and the Family Crisis Center in Harlingen for $10 each.   \nTicket and Raffle proceeds and a portion of the wine sales go to further the work of the Family Crisis Center. For more information\, call (956) 365-4901. \n
LOCATION:
UID:e.1828.3645
SEQUENCE:3
DTSTAMP:20260420T151315Z
URL:https://business.harlingen.com/events/details/the-cellar-wine-tasting-raffle-benefiting-the-family-crisis-center-of-harlingen-05-15-2012-3645
END:VEVENT

END:VCALENDAR
