BEGIN:VCALENDAR
VERSION:2.0
PRODID:-//ChamberMaster//Event Calendar 2.0//EN
METHOD:PUBLISH
X-PUBLISHED-TTL:P3D
REFRESH-INTERVAL:P3D
CALSCALE:GREGORIAN
BEGIN:VEVENT
DTSTART:20111015T233000Z
DTEND:20111015T233000Z
X-MICROSOFT-CDO-ALLDAYEVENT:FALSE
SUMMARY:"The Chamber's 90th Annual Meeting & Gala"
DESCRIPTION:The Chamber's 90th Annual Meeting & Gala Celebrating the Red Coats 50th Anniversary beginning\nat 7:00 pm Doors open at 6:30 pm at the Reese in Harlingen.\n \nCocktails - Dinner - Casino - Diamond Dip \nMusic & Dancing\n____________________________________\nSponsorships Levels\nAll that Jazz - $3\,500\nSpeak Easy - $2\,500\nBootlegger Table Sponsor - $1\,000\nIndividual Tickets - $100\nTo purchase your table or tickets\, contact the Chamber at (956) 423-5440.\n \nCalling all Chamber "Red Coats"! \n\nThe Chamber Ambassadors Committee was organized fifty years ago\, in 1961\, under the name Six Shooter Committee. As official representatives of the Chamber\, the Ambassadors attend ground breakings and ribbon cuttings\, serve as greeters at Chamber mixers and other special events\, and participate in membership drives and retention programs. They are easy to spot at Chamber events because of their distinctive red coats. \nIn celebration of their 50th Anniversary\, the Chamber Ambassadors are planning a gala in October in conjunction with the Chamber's Annual Meeting. Chamber Ambassadors -- past and present -- will be recognized at the gala. \n\nIf you have ever been a member of the Chamber Ambassadors\, let us hear from you! \nCall the Chamber at 423-5440 for more information.
X-ALT-DESC;FMTTYPE=text/html:The Chamber's 90th Annual Meeting & Gala Celebrating the Red Coats 50th Anniversary beginning\nat 7:00 pm Doors open at 6:30 pm at the Reese in Harlingen.\n \nCocktails - Dinner - Casino - Diamond Dip \nMusic & Dancing\n____________________________________\nSponsorships Levels\nAll that Jazz - $3\,500\nSpeak Easy - $2\,500\nBootlegger Table Sponsor - $1\,000\nIndividual Tickets - $100\nTo purchase your table or tickets\, contact the Chamber at (956) 423-5440.\n \nCalling all Chamber "Red Coats"! \n\nThe Chamber Ambassadors Committee was organized fifty years ago\, in 1961\, under the name Six Shooter Committee. As official representatives of the Chamber\, the Ambassadors attend ground breakings and ribbon cuttings\, serve as greeters at Chamber mixers and other special events\, and participate in membership drives and retention programs. They are easy to spot at Chamber events because of their distinctive red coats. \nIn celebration of their 50th Anniversary\, the Chamber Ambassadors are planning a gala in October in conjunction with the Chamber's Annual Meeting. Chamber Ambassadors -- past and present -- will be recognized at the gala. \n\nIf you have ever been a member of the Chamber Ambassadors\, let us hear from you! \nCall the Chamber at 423-5440 for more information. \n\n
LOCATION:
UID:e.1828.3123
SEQUENCE:3
DTSTAMP:20260421T034421Z
URL:https://business.harlingen.com/events/details/the-chamber-s-90th-annual-meeting-gala-10-15-2011-3123
END:VEVENT

END:VCALENDAR
