BEGIN:VCALENDAR
VERSION:2.0
PRODID:-//ChamberMaster//Event Calendar 2.0//EN
METHOD:PUBLISH
X-PUBLISHED-TTL:P3D
REFRESH-INTERVAL:P3D
CALSCALE:GREGORIAN
BEGIN:VEVENT
DTSTART;VALUE=DATE:20120314
DTEND;VALUE=DATE:20120315
TRANSP:TRANSPARENT
X-MICROSOFT-CDO-ALLDAYEVENT:TRUE
SUMMARY:The Harlingen Board of REALTORS
DESCRIPTION:The Harlingen Board of REALTORS is offering Pre - Licensing Classes on March 13 & April 3\, 2012.   \nFor more Information please visit  www.texasrealtorsuniversity.com or call (956) 425-1034.
X-ALT-DESC;FMTTYPE=text/html:The Harlingen Board of REALTORS is offering Pre - Licensing Classes on March 13 & April 3\, 2012.   \nFor more Information please visit  www.texasrealtorsuniversity.com or call (956) 425-1034.\n
LOCATION:
UID:e.1828.3557
SEQUENCE:3
DTSTAMP:20260420T200634Z
URL:https://business.harlingen.com/events/details/the-harlingen-board-of-realtors-03-14-2012-3557
END:VEVENT

END:VCALENDAR
