BEGIN:VCALENDAR
VERSION:2.0
PRODID:-//ChamberMaster//Event Calendar 2.0//EN
METHOD:PUBLISH
X-PUBLISHED-TTL:P3D
REFRESH-INTERVAL:P3D
CALSCALE:GREGORIAN
BEGIN:VEVENT
DTSTART;VALUE=DATE:20120403
DTEND;VALUE=DATE:20120404
TRANSP:TRANSPARENT
X-MICROSOFT-CDO-ALLDAYEVENT:TRUE
SUMMARY:The Harlingen Board of REALTORS
DESCRIPTION:The Harlingen Board of REALTORS is offering Pre - Licensing Classes on April 3\, 2012.   \nFor more Information please visit  www.texasrealtorsuniversity.com or call (956) 425-1034.
X-ALT-DESC;FMTTYPE=text/html:The Harlingen Board of REALTORS is offering Pre - Licensing Classes on April 3\, 2012.   \nFor more Information please visit  www.texasrealtorsuniversity.com or call (956) 425-1034.\n
LOCATION:
UID:e.1828.3572
SEQUENCE:3
DTSTAMP:20260420T163757Z
URL:https://business.harlingen.com/events/details/the-harlingen-board-of-realtors-04-03-2012-3572
END:VEVENT

END:VCALENDAR
