BEGIN:VCALENDAR
VERSION:2.0
PRODID:-//ChamberMaster//Event Calendar 2.0//EN
METHOD:PUBLISH
X-PUBLISHED-TTL:P3D
REFRESH-INTERVAL:P3D
CALSCALE:GREGORIAN
BEGIN:VEVENT
DTSTART;VALUE=DATE:20111007
DTEND;VALUE=DATE:20111008
TRANSP:TRANSPARENT
X-MICROSOFT-CDO-ALLDAYEVENT:TRUE
SUMMARY:The Harlingen Rotary Club Annual Golf Tournament
DESCRIPTION:The Harlingen Rotary club is holding it annual Golf Tournament at Treasure Hills Golf Club Course. Check in time is 11 a.m with TEE time set at 12 a.m.  Entry fee is $100.00 per person 3 person scramble (includes green fees\, cart and lunch).  Awards for the 3 top teams 1st place GPS systems\, 2nd place Proline Golf Bag and Umbrella and 3rd place Proline Driver and towel.  Closest to the pin all Four Par 3's Odyssey Putters  Hole #1 Longest drive and Hole #16 straightest Drive Proline Drivers. Golfers must be registered by October 6\, 2011.  The Harlingen Rotary club will use the profits to support community charities.  Please call Bob Grider at 956- 793- 8952.
X-ALT-DESC;FMTTYPE=text/html:The Harlingen Rotary club is holding it annual Golf Tournament at Treasure Hills Golf Club Course. Check in time is 11 a.m with TEE time set at 12 a.m.  Entry fee is $100.00 per person 3 person scramble (includes green fees\, cart and lunch).  Awards for the 3 top teams 1st place GPS systems\, 2nd place Proline Golf Bag and Umbrella and 3rd place Proline Driver and towel.  Closest to the pin all Four Par 3's Odyssey Putters  Hole #1 Longest drive and Hole #16 straightest Drive Proline Drivers. Golfers must be registered by October 6\, 2011.  The Harlingen Rotary club will use the profits to support community charities.  Please call Bob Grider at 956- 793- 8952.
LOCATION:
UID:e.1828.3162
SEQUENCE:3
DTSTAMP:20260421T021736Z
URL:https://business.harlingen.com/events/details/the-harlingen-rotary-club-annual-golf-tournament-10-07-2011-3162
END:VEVENT

END:VCALENDAR
