BEGIN:VCALENDAR
VERSION:2.0
PRODID:-//ChamberMaster//Event Calendar 2.0//EN
METHOD:PUBLISH
X-PUBLISHED-TTL:P3D
REFRESH-INTERVAL:P3D
CALSCALE:GREGORIAN
BEGIN:VEVENT
DTSTART:20120221T233000Z
DTEND:20120221T233000Z
X-MICROSOFT-CDO-ALLDAYEVENT:FALSE
SUMMARY:The Learning Curve Ribbon Cutting/Mixer
DESCRIPTION:Come join and celebrate The Learning Curve's ribbon cutting ceremony. Enjoy light appetizers\, cookies\, wine punch\, & non-alcoholic punch. There will be door prizes and a wheel to spin for extra prizes! Please RSVP to 423-5440 by February 15th.
X-ALT-DESC;FMTTYPE=text/html:Come join and celebrate The Learning Curve's ribbon cutting ceremony. Enjoy light appetizers\, cookies\, wine punch\, & non-alcoholic punch. There will be door prizes and a wheel to spin for extra prizes! Please RSVP to 423-5440 by February 15th.  \n
LOCATION:
UID:e.1828.3391
SEQUENCE:3
DTSTAMP:20260420T211755Z
URL:https://business.harlingen.com/events/details/the-learning-curve-ribbon-cutting-mixer-02-21-2012-3391
END:VEVENT

END:VCALENDAR
