BEGIN:VCALENDAR
VERSION:2.0
PRODID:-//ChamberMaster//Event Calendar 2.0//EN
METHOD:PUBLISH
X-PUBLISHED-TTL:P3D
REFRESH-INTERVAL:P3D
CALSCALE:GREGORIAN
BEGIN:VEVENT
DTSTART:20121018T223000Z
DTEND:20121019T010000Z
X-MICROSOFT-CDO-ALLDAYEVENT:FALSE
SUMMARY:"The Legacy Collections" by Janine Marie Photography 5 Year Anniversary Open House and Ribbon Cutting
DESCRIPTION:Join us as we celebrate five years at our open house and ribbon cutting event!  There will be a photo booth as well as tours of the expanded studio space.  Refreshments will be served.
X-ALT-DESC;FMTTYPE=text/html:Join us as we celebrate five years at our open house and ribbon cutting event!  There will be a photo booth as well as tours of the expanded studio space.  Refreshments will be served. \n
LOCATION:
UID:e.1828.4031
SEQUENCE:3
DTSTAMP:20260420T103515Z
URL:https://business.harlingen.com/events/details/the-legacy-collections-by-janine-marie-photography-5-year-anniversary-open-house-and-ribbon-cutting-10-18-2012-4031
END:VEVENT

END:VCALENDAR
